BEGIN:VCALENDAR
VERSION:2.0
PRODID:-//Calendar Link Generator//EN
BEGIN:VEVENT
UID:7a567922-9a1e-4060-9432-e81a432c4f39
DTSTAMP:20260408T185911Z
DTSTART:20260421T200000Z
DTEND:20260421T210000Z
SUMMARY:🎉 MAGFAST: Welcome to the WMCC
DESCRIPTION:Join us at https://www.MAGFAST.com/live\n\n🎩 Something we've never talked about publicly is about to be revealed — and you'll be among the first people on the planet to know\n\n🔍 We're finally unveiling what the WMCC actually is... plus what we've been quietly building behind the scenes\n\n🎁 Just for registering\, you're entered to win one of three complete MAGFAST sets — over $500 each. Plus a surprise for the winners 🎩\n\n📱 Register now at https://www.MAGFAST.com/register-now and add your phone number — we'll text you right before we go live!\n\nTuesday April 21st · 1pm Pacific / 4pm Eastern\nEncore: 6pm Pacific / 9pm Eastern
LOCATION:https://www.MAGFAST.com/live
END:VEVENT
END:VCALENDAR